BEGIN:VCALENDAR
VERSION:2.0
PRODID:-//Secteur Rouyn-Noranda - ECPv5.14.0.4//NONSGML v1.0//EN
CALSCALE:GREGORIAN
METHOD:PUBLISH
X-WR-CALNAME:Secteur Rouyn-Noranda
X-ORIGINAL-URL:https://rouyn-noranda.areq.lacsq.org
X-WR-CALDESC:évènements pour Secteur Rouyn-Noranda
BEGIN:VTIMEZONE
TZID:America/New_York
BEGIN:DAYLIGHT
TZOFFSETFROM:-0500
TZOFFSETTO:-0400
TZNAME:EDT
DTSTART:20260308T070000
END:DAYLIGHT
BEGIN:STANDARD
TZOFFSETFROM:-0400
TZOFFSETTO:-0500
TZNAME:EST
DTSTART:20261101T060000
END:STANDARD
END:VTIMEZONE
BEGIN:VEVENT
DTSTART;TZID=America/New_York:20260407T100000
DTEND;TZID=America/New_York:20260407T120000
DTSTAMP:20260420T112508
CREATED:20260226T170640Z
LAST-MODIFIED:20260319T164228Z
UID:2298-1775556000-1775563200@rouyn-noranda.areq.lacsq.org
SUMMARY:Assemblée générale sectorielle 7 avril
DESCRIPTION:L’assemblée se tiendra à la salle Témabex\, 52 Rue Perreault Ouest à compter de 10 heures. \nPour y assister\,  vous pouvez vous inscrire en complétant le formulaire ci-dessous: \nFormulaire d’inscription
URL:https://rouyn-noranda.areq.lacsq.org/event/assemblee-generale-sectorielle/
END:VEVENT
END:VCALENDAR