BEGIN:VCALENDAR
VERSION:2.0
PRODID:-//Secteur Rouyn-Noranda - ECPv5.14.0.4//NONSGML v1.0//EN
CALSCALE:GREGORIAN
METHOD:PUBLISH
X-WR-CALNAME:Secteur Rouyn-Noranda
X-ORIGINAL-URL:https://rouyn-noranda.areq.lacsq.org
X-WR-CALDESC:évènements pour Secteur Rouyn-Noranda
BEGIN:VTIMEZONE
TZID:America/New_York
BEGIN:DAYLIGHT
TZOFFSETFROM:-0500
TZOFFSETTO:-0400
TZNAME:EDT
DTSTART:20260308T070000
END:DAYLIGHT
BEGIN:STANDARD
TZOFFSETFROM:-0400
TZOFFSETTO:-0500
TZNAME:EST
DTSTART:20261101T060000
END:STANDARD
END:VTIMEZONE
BEGIN:VEVENT
DTSTART;TZID=America/New_York:20260520T090000
DTEND;TZID=America/New_York:20260520T170000
DTSTAMP:20260420T092631
CREATED:20260226T171804Z
LAST-MODIFIED:20260226T171804Z
UID:2309-1779267600-1779296400@rouyn-noranda.areq.lacsq.org
SUMMARY:Activité-surprise le 20 mai
DESCRIPTION:Vous serez informés des détails de cette activité vers la fin avril.
URL:https://rouyn-noranda.areq.lacsq.org/event/activite-surprise-le-20-mai/
END:VEVENT
END:VCALENDAR